BEGIN:VCALENDAR
VERSION:2.0
PRODID:PBS
CALSCALE:GREGORIAN
X-MICROSOFT-CALSCALE:GREGORIAN
BEGIN:VEVENT
UID:3104
DTSTART:20200814T214500
SEQUENCE:0
DTEND:20200814T214500
DTSTAMP:20260421T071943Z
LOCATION:Pierre Boulez Saal
SUMMARY:Pierre Boulez Saal
CLASS:PUBLIC
DESCRIPTION:West-Eastern Divan Orchestra & Daniel Barenboim
END:VEVENT
END:VCALENDAR