BEGIN:VCALENDAR
VERSION:2.0
PRODID:PBS
CALSCALE:GREGORIAN
X-MICROSOFT-CALSCALE:GREGORIAN
BEGIN:VEVENT
UID:3109
DTSTART:20201217T200000
SEQUENCE:0
DTEND:20201217T200000
DTSTAMP:20260422T173745Z
LOCATION:Opernhaus Bonn
SUMMARY:Jubilee Concert of Beethoven Anniversary Year 2020
CLASS:PUBLIC
DESCRIPTION:West-Eastern Divan Orchestra & Daniel Barenboim
END:VEVENT
END:VCALENDAR