BEGIN:VCALENDAR
VERSION:2.0
PRODID:PBS
CALSCALE:GREGORIAN
X-MICROSOFT-CALSCALE:GREGORIAN
BEGIN:VEVENT
UID:3115
DTSTART:20210816T193000
SEQUENCE:0
DTEND:20210816T193000
DTSTAMP:20260420T180019Z
LOCATION:Lucerne Festival
SUMMARY:Lucerne Festival
CLASS:PUBLIC
DESCRIPTION:West-Eastern Divan Orchestra\, Lahav Shani & Daniel Barenboim
END:VEVENT
END:VCALENDAR