BEGIN:VCALENDAR
VERSION:2.0
PRODID:PBS
CALSCALE:GREGORIAN
X-MICROSOFT-CALSCALE:GREGORIAN
BEGIN:VEVENT
UID:3119
DTSTART:20210808T180000
SEQUENCE:0
DTEND:20210808T180000
DTSTAMP:20260420T160158Z
LOCATION:Elbphilharmonie
SUMMARY:Elbphilharmonie Hamburg
CLASS:PUBLIC
DESCRIPTION:West-Eastern Divan Orchestra & Daniel Barenboim
END:VEVENT
END:VCALENDAR