BEGIN:VCALENDAR
VERSION:2.0
PRODID:PBS
CALSCALE:GREGORIAN
X-MICROSOFT-CALSCALE:GREGORIAN
BEGIN:VEVENT
UID:3123
DTSTART:20210804T200000
SEQUENCE:0
DTEND:20210804T200000
DTSTAMP:20260420T104413Z
LOCATION:Kölner Philharmonie
SUMMARY:Kölner Philharmonie
CLASS:PUBLIC
DESCRIPTION:West-Eastern Divan Orchestra & Daniel Barenboim
END:VEVENT
END:VCALENDAR