BEGIN:VCALENDAR
VERSION:2.0
PRODID:PBS
CALSCALE:GREGORIAN
X-MICROSOFT-CALSCALE:GREGORIAN
BEGIN:VEVENT
UID:3125
DTSTART:20220506T200000
SEQUENCE:0
DTEND:20220506T200000
DTSTAMP:20260420T180822Z
LOCATION:Teatro alla Scala
SUMMARY:Teatro alla Scala
CLASS:PUBLIC
DESCRIPTION:West-Eastern Divan Orchestra & Thomas Guggeis
END:VEVENT
END:VCALENDAR