BEGIN:VCALENDAR
VERSION:2.0
PRODID:PBS
CALSCALE:GREGORIAN
X-MICROSOFT-CALSCALE:GREGORIAN
BEGIN:VEVENT
UID:3127
DTSTART:20220509T200000
SEQUENCE:0
DTEND:20220509T200000
DTSTAMP:20260422T114855Z
LOCATION:BOZAR Brussels
SUMMARY:Palais des Beaux-Arts
CLASS:PUBLIC
DESCRIPTION:West-Eastern Divan Orchestra & Thomas Guggeis
END:VEVENT
END:VCALENDAR