BEGIN:VCALENDAR
VERSION:2.0
PRODID:PBS
CALSCALE:GREGORIAN
X-MICROSOFT-CALSCALE:GREGORIAN
BEGIN:VEVENT
UID:3136
DTSTART:20210807T200000
SEQUENCE:0
DTEND:20210807T200000
DTSTAMP:20260422T132144Z
LOCATION:Cankarjev dom
SUMMARY:Ljubljana Festival 
CLASS:PUBLIC
DESCRIPTION:West-Eastern Divan Orchestra & Daniel Barenboim
END:VEVENT
END:VCALENDAR