BEGIN:VCALENDAR
VERSION:2.0
PRODID:PBS
CALSCALE:GREGORIAN
X-MICROSOFT-CALSCALE:GREGORIAN
BEGIN:VEVENT
UID:3149
DTSTART:20221103T200000
SEQUENCE:0
DTEND:20221103T200000
DTSTAMP:20260421T022655Z
LOCATION:House of Music
SUMMARY:House of Music\, Budapest
CLASS:PUBLIC
DESCRIPTION:West-Eastern Divan Ensemble
END:VEVENT
END:VCALENDAR