BEGIN:VCALENDAR
VERSION:2.0
PRODID:PBS
CALSCALE:GREGORIAN
X-MICROSOFT-CALSCALE:GREGORIAN
BEGIN:VEVENT
UID:3151
DTSTART:20221107T193000
SEQUENCE:0
DTEND:20221107T193000
DTSTAMP:20260421T012634Z
LOCATION:Wiener Konzerthaus
SUMMARY:Wiener Konzerthaus
CLASS:PUBLIC
DESCRIPTION:West-Eastern Divan Ensemble
END:VEVENT
END:VCALENDAR