BEGIN:VCALENDAR
VERSION:2.0
PRODID:PBS
CALSCALE:GREGORIAN
X-MICROSOFT-CALSCALE:GREGORIAN
BEGIN:VEVENT
UID:3152
DTSTART:20221109T200000
SEQUENCE:0
DTEND:20221109T200000
DTSTAMP:20260422T184432Z
LOCATION:Philharmonie de Paris
SUMMARY:Philharmonie de Paris
CLASS:PUBLIC
DESCRIPTION:West-Eastern Divan Ensemble
END:VEVENT
END:VCALENDAR