BEGIN:VCALENDAR
VERSION:2.0
PRODID:PBS
CALSCALE:GREGORIAN
X-MICROSOFT-CALSCALE:GREGORIAN
BEGIN:VEVENT
UID:3153
DTSTART:20230208T193000
SEQUENCE:0
DTEND:20230208T193000
DTSTAMP:20260420T232756Z
LOCATION:Pierre Boulez Saal
SUMMARY:Pierre Boulez Saal
CLASS:PUBLIC
DESCRIPTION:West-Eastern Divan Ensemble
END:VEVENT
END:VCALENDAR