BEGIN:VCALENDAR
VERSION:2.0
PRODID:PBS
CALSCALE:GREGORIAN
X-MICROSOFT-CALSCALE:GREGORIAN
BEGIN:VEVENT
UID:3156
DTSTART:20230226T190000
SEQUENCE:0
DTEND:20230226T190000
DTSTAMP:20260422T162545Z
LOCATION:Baldwin Auditorium
SUMMARY:Baldwin Auditorium
CLASS:PUBLIC
DESCRIPTION:West-Eastern Divan Ensemble
END:VEVENT
END:VCALENDAR