BEGIN:VCALENDAR
VERSION:2.0
PRODID:PBS
CALSCALE:GREGORIAN
X-MICROSOFT-CALSCALE:GREGORIAN
BEGIN:VEVENT
UID:3157
DTSTART:20230228T193000
SEQUENCE:0
DTEND:20230228T193000
DTSTAMP:20260420T180640Z
LOCATION:UGA Performing Arts Center
SUMMARY:UGA Performing Arts Center
CLASS:PUBLIC
DESCRIPTION:West-Eastern Divan Ensemble
END:VEVENT
END:VCALENDAR