BEGIN:VCALENDAR
VERSION:2.0
PRODID:PBS
CALSCALE:GREGORIAN
X-MICROSOFT-CALSCALE:GREGORIAN
BEGIN:VEVENT
UID:3161
DTSTART:20230312T153000
SEQUENCE:0
DTEND:20230312T153000
DTSTAMP:20260422T114845Z
LOCATION:California Center for Arts
SUMMARY: California Center for the Arts
CLASS:PUBLIC
DESCRIPTION:West-Eastern Divan Ensemble
END:VEVENT
END:VCALENDAR