BEGIN:VCALENDAR
VERSION:2.0
PRODID:PBS
CALSCALE:GREGORIAN
X-MICROSOFT-CALSCALE:GREGORIAN
BEGIN:VEVENT
UID:3162
DTSTART:20230314T190000
SEQUENCE:0
DTEND:20230314T190000
DTSTAMP:20260421T022955Z
LOCATION:Colburn School Zipper Hall
SUMMARY:Colburn School Zipper Hall
CLASS:PUBLIC
DESCRIPTION:West-Eastern Divan Ensemble
END:VEVENT
END:VCALENDAR