BEGIN:VCALENDAR
VERSION:2.0
PRODID:PBS
CALSCALE:GREGORIAN
X-MICROSOFT-CALSCALE:GREGORIAN
BEGIN:VEVENT
UID:3163
DTSTART:20230819T190000
SEQUENCE:0
DTEND:20230819T190000
DTSTAMP:20260420T160158Z
LOCATION:Waldbühne
SUMMARY:Waldbühne Berlin
CLASS:PUBLIC
DESCRIPTION:Igor Levit\, West-Eastern Divan Orchestra & Daniel Barenboim
END:VEVENT
END:VCALENDAR