BEGIN:VCALENDAR
VERSION:2.0
PRODID:PBS
CALSCALE:GREGORIAN
X-MICROSOFT-CALSCALE:GREGORIAN
BEGIN:VEVENT
UID:3164
DTSTART:20230817T193000
SEQUENCE:0
DTEND:20230817T193000
DTSTAMP:20260424T115112Z
LOCATION:Grosses Festspielhaus 
SUMMARY:Salzburger Festspiele
CLASS:PUBLIC
DESCRIPTION:Igor Levit\, West-Eastern Divan Orchestra & Daniel Barenboim
END:VEVENT
END:VCALENDAR