BEGIN:VCALENDAR
VERSION:2.0
PRODID:PBS
CALSCALE:GREGORIAN
X-MICROSOFT-CALSCALE:GREGORIAN
BEGIN:VEVENT
UID:3166
DTSTART:20230308T190000
SEQUENCE:0
DTEND:20230308T190000
DTSTAMP:20260422T162713Z
LOCATION:Segerstrom Center for the Arts
SUMMARY:Segerstrom Center for the Arts
CLASS:PUBLIC
DESCRIPTION:West-Eastern Divan Ensemble
END:VEVENT
END:VCALENDAR