BEGIN:VCALENDAR
VERSION:2.0
PRODID:PBS
CALSCALE:GREGORIAN
X-MICROSOFT-CALSCALE:GREGORIAN
BEGIN:VEVENT
UID:3170
DTSTART:20240809T200000
SEQUENCE:0
DTEND:20240809T200000
DTSTAMP:20260421T005542Z
LOCATION:Waldbühne
SUMMARY:Waldbühne Berlin
CLASS:PUBLIC
DESCRIPTION:Anne-Sophie Mutter\, Daniel Barenboim & West-Eastern Divan Orchestra
END:VEVENT
END:VCALENDAR