BEGIN:VCALENDAR
VERSION:2.0
PRODID:PBS
CALSCALE:GREGORIAN
X-MICROSOFT-CALSCALE:GREGORIAN
BEGIN:VEVENT
UID:3172
DTSTART:20231101T180000
SEQUENCE:0
DTEND:20231101T180000
DTSTAMP:20260421T022335Z
LOCATION:Gewandhaus zu Leipzig
SUMMARY:Mendelssohn-Festtage 2023
CLASS:PUBLIC
DESCRIPTION:West-Eastern Divan Ensemble
END:VEVENT
END:VCALENDAR