BEGIN:VCALENDAR
VERSION:2.0
PRODID:PBS
CALSCALE:GREGORIAN
X-MICROSOFT-CALSCALE:GREGORIAN
BEGIN:VEVENT
UID:3180
DTSTART:20240415T200000
SEQUENCE:0
DTEND:20240415T200000
DTSTAMP:20260420T232910Z
LOCATION:Berliner Philharmonie
SUMMARY:Berliner Philharmonie
CLASS:PUBLIC
DESCRIPTION:25 Anniversary Concert: Daniel Barenboim & West-Eastern Divan Orchestra
END:VEVENT
END:VCALENDAR