BEGIN:VCALENDAR
VERSION:2.0
PRODID:PBS
CALSCALE:GREGORIAN
X-MICROSOFT-CALSCALE:GREGORIAN
BEGIN:VEVENT
UID:3183
DTSTART:20240807T193000
SEQUENCE:0
DTEND:20240807T193000
DTSTAMP:20260421T022257Z
LOCATION:Musikfest Bremen
SUMMARY:Musikfest Bremen
CLASS:PUBLIC
DESCRIPTION:Anne-Sophie Mutter\, Daniel Barenboim & West-Eastern Divan Orchestra
END:VEVENT
END:VCALENDAR