BEGIN:VCALENDAR
VERSION:2.0
PRODID:PBS
CALSCALE:GREGORIAN
X-MICROSOFT-CALSCALE:GREGORIAN
BEGIN:VEVENT
UID:3187
DTSTART:20241102T193000
SEQUENCE:0
DTEND:20241102T193000
DTSTAMP:20260422T171436Z
LOCATION:Gewandhaus zu Leipzig
SUMMARY:Mendelssohn-Festtage 2024
CLASS:PUBLIC
DESCRIPTION:West-Eastern Divan Orchestra & Daniel Barenboim
END:VEVENT
END:VCALENDAR