BEGIN:VCALENDAR
VERSION:2.0
PRODID:PBS
CALSCALE:GREGORIAN
X-MICROSOFT-CALSCALE:GREGORIAN
BEGIN:VEVENT
UID:3191
DTSTART:20250817T193000
SEQUENCE:0
DTEND:20250817T193000
DTSTAMP:20260424T115642Z
LOCATION:Lucerne Festival
SUMMARY:Lucerne Festival
CLASS:PUBLIC
DESCRIPTION:West-Eastern Divan Orchestra\, Daniel Barenboim & Lang Lang
END:VEVENT
END:VCALENDAR