BEGIN:VCALENDAR
VERSION:2.0
PRODID:PBS
CALSCALE:GREGORIAN
X-MICROSOFT-CALSCALE:GREGORIAN
BEGIN:VEVENT
UID:3192
DTSTART:20250309T180000
SEQUENCE:0
DTEND:20250309T180000
DTSTAMP:20260423T014632Z
LOCATION:Victoria Hall
SUMMARY:Victoria Hall
CLASS:PUBLIC
DESCRIPTION:West-Eastern Divan Orchestra\, Zubin Mehta & Clara-Jumi Kang 
END:VEVENT
END:VCALENDAR