BEGIN:VCALENDAR
VERSION:2.0
PRODID:PBS
CALSCALE:GREGORIAN
X-MICROSOFT-CALSCALE:GREGORIAN
BEGIN:VEVENT
UID:3194
DTSTART:20250310T193000
SEQUENCE:0
DTEND:20250310T193000
DTSTAMP:20260422T154647Z
LOCATION:Müpa Budapest
SUMMARY:Müpa Budapest
CLASS:PUBLIC
DESCRIPTION:West-Eastern Divan Orchestra & Zubin Mehta 
END:VEVENT
END:VCALENDAR