BEGIN:VCALENDAR
VERSION:2.0
PRODID:PBS
CALSCALE:GREGORIAN
X-MICROSOFT-CALSCALE:GREGORIAN
BEGIN:VEVENT
UID:3199
DTSTART:20250226T193000
SEQUENCE:0
DTEND:20250226T193000
DTSTAMP:20260422T131107Z
LOCATION:National Centre for the Performing Arts
SUMMARY:Beijing National Centre for the Performing Arts
CLASS:PUBLIC
DESCRIPTION:West-Eastern Divan Orchestra\, Zubin Mehta & Clara-Jumi Kang 
END:VEVENT
END:VCALENDAR