BEGIN:VCALENDAR
VERSION:2.0
PRODID:PBS
CALSCALE:GREGORIAN
X-MICROSOFT-CALSCALE:GREGORIAN
BEGIN:VEVENT
UID:3204
DTSTART:20250604T193000
SEQUENCE:0
DTEND:20250604T193000
DTSTAMP:20260421T072003Z
LOCATION:Centro Cultural de Música
SUMMARY:Teatro Solís\, Montevideo
CLASS:PUBLIC
DESCRIPTION:West-Eastern Divan Ensemble
END:VEVENT
END:VCALENDAR