BEGIN:VCALENDAR
VERSION:2.0
PRODID:PBS
CALSCALE:GREGORIAN
X-MICROSOFT-CALSCALE:GREGORIAN
BEGIN:VEVENT
UID:3205
DTSTART:20250602T200000
SEQUENCE:0
DTEND:20250602T200000
DTSTAMP:20260420T160053Z
LOCATION:Teatro Colón
SUMMARY:Teatro Colón\, Buenos Aires
CLASS:PUBLIC
DESCRIPTION:West-Eastern Divan Ensemble
END:VEVENT
END:VCALENDAR