BEGIN:VCALENDAR
VERSION:2.0
PRODID:PBS
CALSCALE:GREGORIAN
X-MICROSOFT-CALSCALE:GREGORIAN
BEGIN:VEVENT
UID:3208
DTSTART:20250813T200000
SEQUENCE:0
DTEND:20250813T200000
DTSTAMP:20260421T052538Z
LOCATION:Rheingau Musik Festival
SUMMARY:Rheingau Musik Festival
CLASS:PUBLIC
DESCRIPTION:West-Eastern Divan Orchestra\, Daniel Barenboim &  Lang Lang
END:VEVENT
END:VCALENDAR