BEGIN:VCALENDAR
VERSION:2.0
PRODID:PBS
CALSCALE:GREGORIAN
X-MICROSOFT-CALSCALE:GREGORIAN
BEGIN:VEVENT
UID:3210
DTSTART:20250812T193000
SEQUENCE:0
DTEND:20250812T193000
DTSTAMP:20260422T173627Z
LOCATION:Musik- und Kongresshalle
SUMMARY:Schleswig-Holstein Musik Festival
CLASS:PUBLIC
DESCRIPTION:West-Eastern Divan Orchestra\, Daniel Barenboim & Lang Lang
END:VEVENT
END:VCALENDAR