BEGIN:VCALENDAR
VERSION:2.0
PRODID:PBS
CALSCALE:GREGORIAN
X-MICROSOFT-CALSCALE:GREGORIAN
BEGIN:VEVENT
UID:3211
DTSTART:20050821T190000
SEQUENCE:0
DTEND:20050821T190000
DTSTAMP:20260421T032703Z
LOCATION:Cultural Palace\, Ramallah
SUMMARY: Ramallah Cultural Palace
CLASS:PUBLIC
DESCRIPTION:West-Eastern Divan Orchestra & Daniel Barenboim
END:VEVENT
END:VCALENDAR