BEGIN:VCALENDAR
VERSION:2.0
PRODID:PBS
CALSCALE:GREGORIAN
X-MICROSOFT-CALSCALE:GREGORIAN
BEGIN:VEVENT
UID:3212
DTSTART:20260214T193000
SEQUENCE:0
DTEND:20260214T193000
DTSTAMP:20260420T090619Z
LOCATION:Auditorio Nacional de Música
SUMMARY:Auditorio Nacional de Música 
CLASS:PUBLIC
DESCRIPTION:West-Eastern Divan Orchestra\, Zubin Mehta & María Dueñas
END:VEVENT
END:VCALENDAR