BEGIN:VCALENDAR
VERSION:2.0
PRODID:PBS
CALSCALE:GREGORIAN
X-MICROSOFT-CALSCALE:GREGORIAN
BEGIN:VEVENT
UID:3213
DTSTART:20260215T113000
SEQUENCE:0
DTEND:20260215T113000
DTSTAMP:20260422T132022Z
LOCATION:Auditorio Nacional de Música
SUMMARY:Auditorio Nacional de Música 
CLASS:PUBLIC
DESCRIPTION:West-Eastern Divan Orchestra & Zubin Mehta 
END:VEVENT
END:VCALENDAR