BEGIN:VCALENDAR
VERSION:2.0
PRODID:PBS
CALSCALE:GREGORIAN
X-MICROSOFT-CALSCALE:GREGORIAN
BEGIN:VEVENT
UID:3214
DTSTART:20260216T200000
SEQUENCE:0
DTEND:20260216T200000
DTSTAMP:20260420T160053Z
LOCATION:L'Auditori de Barcelona
SUMMARY:L'Auditori de Barcelona
CLASS:PUBLIC
DESCRIPTION:West-Eastern Divan Orchestra\, Zubin Mehta & María Dueñas
END:VEVENT
END:VCALENDAR