BEGIN:VCALENDAR
VERSION:2.0
PRODID:PBS
CALSCALE:GREGORIAN
X-MICROSOFT-CALSCALE:GREGORIAN
BEGIN:VEVENT
UID:3215
DTSTART:20260218T200000
SEQUENCE:0
DTEND:20260218T200000
DTSTAMP:20260421T071936Z
LOCATION:Palau de la Música Catalana
SUMMARY:Palau de la Música Catalana
CLASS:PUBLIC
DESCRIPTION:West-Eastern Divan Orchestra & Zubin Mehta 
END:VEVENT
END:VCALENDAR