BEGIN:VCALENDAR
VERSION:2.0
PRODID:PBS
CALSCALE:GREGORIAN
X-MICROSOFT-CALSCALE:GREGORIAN
BEGIN:VEVENT
UID:3224
DTSTART:20260917T193000
SEQUENCE:0
DTEND:20260917T193000
DTSTAMP:20260422T010658Z
LOCATION:Konzerthaus Dortmund
SUMMARY:Konzerthaus Dortmund
CLASS:PUBLIC
DESCRIPTION:West-Eastern Divan Orchestra & Daniel Barenboim
END:VEVENT
END:VCALENDAR