BEGIN:VCALENDAR
VERSION:2.0
PRODID:PBS
CALSCALE:GREGORIAN
X-MICROSOFT-CALSCALE:GREGORIAN
BEGIN:VEVENT
UID:3225
DTSTART:20260921T200000
SEQUENCE:0
DTEND:20260921T200000
DTSTAMP:20260422T034830Z
LOCATION:Philharmonie de Paris
SUMMARY:Philharmonie de Paris
CLASS:PUBLIC
DESCRIPTION:West-Eastern Divan Orchestra & Daniel Barenboim
END:VEVENT
END:VCALENDAR