BEGIN:VCALENDAR
VERSION:2.0
PRODID:PBS
CALSCALE:GREGORIAN
X-MICROSOFT-CALSCALE:GREGORIAN
BEGIN:VEVENT
UID:3226
DTSTART:20260924T193000
SEQUENCE:0
DTEND:20260924T193000
DTSTAMP:20260422T010514Z
LOCATION:Musikverein
SUMMARY:Musikverein Vienna
CLASS:PUBLIC
DESCRIPTION:West-Eastern Divan Orchestra & Daniel Barenboim
END:VEVENT
END:VCALENDAR